BEGIN:VCALENDAR
VERSION:2.0
PRODID:-//AI Baltics - ECPv6.15.20//NONSGML v1.0//EN
CALSCALE:GREGORIAN
METHOD:PUBLISH
X-ORIGINAL-URL:https://aibaltics.com
X-WR-CALDESC:Events for AI Baltics
REFRESH-INTERVAL;VALUE=DURATION:PT1H
X-Robots-Tag:noindex
X-PUBLISHED-TTL:PT1H
BEGIN:VTIMEZONE
TZID:Europe/Riga
BEGIN:DAYLIGHT
TZOFFSETFROM:+0200
TZOFFSETTO:+0300
TZNAME:EEST
DTSTART:20250330T010000
END:DAYLIGHT
BEGIN:STANDARD
TZOFFSETFROM:+0300
TZOFFSETTO:+0200
TZNAME:EET
DTSTART:20251026T010000
END:STANDARD
BEGIN:DAYLIGHT
TZOFFSETFROM:+0200
TZOFFSETTO:+0300
TZNAME:EEST
DTSTART:20260329T010000
END:DAYLIGHT
BEGIN:STANDARD
TZOFFSETFROM:+0300
TZOFFSETTO:+0200
TZNAME:EET
DTSTART:20261025T010000
END:STANDARD
BEGIN:DAYLIGHT
TZOFFSETFROM:+0200
TZOFFSETTO:+0300
TZNAME:EEST
DTSTART:20270328T010000
END:DAYLIGHT
BEGIN:STANDARD
TZOFFSETFROM:+0300
TZOFFSETTO:+0200
TZNAME:EET
DTSTART:20271031T010000
END:STANDARD
END:VTIMEZONE
BEGIN:VEVENT
DTSTART;TZID=Europe/Riga:20260507T120000
DTEND;TZID=Europe/Riga:20260507T130000
DTSTAMP:20260420T231216
CREATED:20260415T192322Z
LAST-MODIFIED:20260420T200216Z
UID:89-1778155200-1778158800@aibaltics.com
SUMMARY:AI Laws in the Baltics: What Every Professional Needs to Know Before August 2026
DESCRIPTION:The EU AI Act takes full effect on 2 August 2026. If you work in tech\, business\, or government in Estonia\, Latvia\, or Lithuania — this affects you. \nJoin this live webinar to get a clear\, practical breakdown of: \n– What’s already law in each Baltic country\n– The EU AI Act risk categories and what they mean for you\n– Latvia’s dedicated AI laws and deepfake criminalization\n– Estonia’s €85M AI investment and minimal regulation approach\n– Lithuania’s enforcement readiness and the upcoming AI Factory\n– What you should do now depending on your role \nLive Q&A included — bring your questions. \n🎁 Every registered attendee is automatically entered into a free Claude Pro subscription draw. \nDuration: ~50 minutes (including Q&A)\nStream: YouTube Live — link will be shared with registered attendees before the event.
URL:https://aibaltics.com/event/ai-laws-in-the-baltics-what-every-professional-needs-to-know-before-august-2026/
LOCATION:Online / YouTube Live
ATTACH;FMTTYPE=image/png:https://aibaltics.com/wp-content/uploads/2026/04/featured-ai-laws-baltics.png
ORGANIZER;CN="AI Baltics":MAILTO:hello@aibaltics.com
END:VEVENT
END:VCALENDAR